BEGIN:VCALENDAR
VERSION:2.0
PRODID:-//Arion Werlte - ECPv6.15.15//NONSGML v1.0//EN
CALSCALE:GREGORIAN
METHOD:PUBLISH
X-WR-CALNAME:Arion Werlte
X-ORIGINAL-URL:https://www.arion-werlte.de
X-WR-CALDESC:Veranstaltungen für Arion Werlte
REFRESH-INTERVAL;VALUE=DURATION:PT1H
X-Robots-Tag:noindex
X-PUBLISHED-TTL:PT1H
BEGIN:VTIMEZONE
TZID:Europe/Berlin
BEGIN:DAYLIGHT
TZOFFSETFROM:+0100
TZOFFSETTO:+0200
TZNAME:CEST
DTSTART:20230326T010000
END:DAYLIGHT
BEGIN:STANDARD
TZOFFSETFROM:+0200
TZOFFSETTO:+0100
TZNAME:CET
DTSTART:20231029T010000
END:STANDARD
BEGIN:DAYLIGHT
TZOFFSETFROM:+0100
TZOFFSETTO:+0200
TZNAME:CEST
DTSTART:20240331T010000
END:DAYLIGHT
BEGIN:STANDARD
TZOFFSETFROM:+0200
TZOFFSETTO:+0100
TZNAME:CET
DTSTART:20241027T010000
END:STANDARD
BEGIN:DAYLIGHT
TZOFFSETFROM:+0100
TZOFFSETTO:+0200
TZNAME:CEST
DTSTART:20250330T010000
END:DAYLIGHT
BEGIN:STANDARD
TZOFFSETFROM:+0200
TZOFFSETTO:+0100
TZNAME:CET
DTSTART:20251026T010000
END:STANDARD
END:VTIMEZONE
BEGIN:VEVENT
DTSTART;TZID=Europe/Berlin:20241114T201500
DTEND;TZID=Europe/Berlin:20241114T221500
DTSTAMP:20260419T150139
CREATED:20240109T114027Z
LAST-MODIFIED:20240109T114027Z
UID:2174-1731615300-1731622500@www.arion-werlte.de
SUMMARY:Proben
DESCRIPTION:
URL:https://www.arion-werlte.de/event/proben-35/
LOCATION:Gaststätte Hahnenkamp\, Hauptstraße 17\, Werlte\, Niedersachsen\, 49757\, Deutschland
ORGANIZER;CN="Arion Werlte":MAILTO:info@arion-werlte.de
END:VEVENT
END:VCALENDAR